BEGIN:VCALENDAR
VERSION:2.0
PRODID:-//wp-events-plugin.com//7.2.3.1//EN
BEGIN:VEVENT
UID:1@cuba.unam.mx
DTSTART:20240831T120000Z
DTEND:20240831T140000Z
DTSTAMP:20240826T140248Z
URL:https://cuba.unam.mx/events/herida-fecundada/
SUMMARY:Herida Fecundada
DESCRIPTION:\nNo te puedes perder la presentación del libro Herida fecunda
 \, en el cual la autora habla de su propia historia de exilio desde la Arg
 entina de la dictadura hasta México\, pero también de las historias de m
 iles y miles de migrantes: del Mediterráneo a las fronteras de Centroamé
 rica\, de los Andes a la selva colombiana\, deambulando por el fracturado 
 sur del mundo. ¡No te lo pierdas!\n\n\nConoce más de la FILUNI aquí: ht
 tps://www.filuni.unam.mx/eventos/\n
LOCATION:https://maps.app.goo.gl/EsgN7QkB5LV17ECh8
END:VEVENT
BEGIN:VEVENT
UID:2@cuba.unam.mx
DTSTART;TZID=America/Havana:20240912T100000
DTEND;TZID=America/Havana:20240912T130000
DTSTAMP:20240912T145909Z
URL:https://cuba.unam.mx/events/sesion-catedra-gertrudis-gomez-de-avellane
 da/
SUMMARY:Sesión: «Cátedra Gertrudis Gómez de Avellaneda»
DESCRIPTION:UNAM Cuba participa en la sesión de la Cátedra Gertrudis Góm
 ez de Avellaneda de septiembre 2024
ATTACH;FMTTYPE=image/jpeg:https://cuba.unam.mx/wp-content/uploads/2024/09/
 Captura-de-Pantalla-2024-09-12-a-las-10.56.07.webp
CATEGORIES:Actividades UNAM Cuba,Género y literatura
LOCATION:Instituto de Literatura y Lingüística «José A. Portuondo Valdo
 r»\, Av. Salvador Allende 710\, entre Soledad y Castillejo\, Centro de La
  Habana\, 10300\, Cuba
X-APPLE-STRUCTURED-LOCATION;VALUE=URI;X-ADDRESS=Av. Salvador Allende 710\, 
 entre Soledad y Castillejo\, Centro de La Habana\, 10300\, Cuba;X-APPLE-RA
 DIUS=100;X-TITLE=Instituto de Literatura y Lingüística «José A. Portuo
 ndo Valdor»:geo:0,0
END:VEVENT
BEGIN:VEVENT
UID:4@cuba.unam.mx
DTSTART;VALUE=DATE:20250126
DTEND;VALUE=DATE:20250128
DTSTAMP:20250120T221856Z
URL:https://cuba.unam.mx/events/bienvenida/
SUMMARY:Bienvenida
DESCRIPTION:Les damos la bienvenida a todos a la nueva sección de eventos.
CATEGORIES:Actividades UNAM Cuba
LOCATION:https://maps.app.goo.gl/uE2GmQEpf7zg3Q8b6
END:VEVENT
BEGIN:VEVENT
UID:7@cuba.unam.mx
DTSTART;VALUE=DATE:20250607
DTEND;VALUE=DATE:20250608
DTSTAMP:20250607T153406Z
URL:https://cuba.unam.mx/events/concierto-de-homenaje-a-armando-manzanero/
SUMMARY:Concierto de homenaje a Armando Manzanero
DESCRIPTION:
CATEGORIES:Actividades UNAM Cuba
END:VEVENT
BEGIN:VEVENT
UID:8@cuba.unam.mx
DTSTART:20250612T010000Z
DTEND:20250612T040000Z
DTSTAMP:20250611T111714Z
URL:https://cuba.unam.mx/events/3963/
SUMMARY:
DESCRIPTION:
END:VEVENT
BEGIN:VEVENT
UID:9@cuba.unam.mx
DTSTART:20250612T010000Z
DTEND:20250612T040000Z
DTSTAMP:20250611T112238Z
URL:https://cuba.unam.mx/events/3966/
SUMMARY:
DESCRIPTION:
END:VEVENT
BEGIN:VTIMEZONE
TZID:America/Havana
X-LIC-LOCATION:America/Havana
BEGIN:DAYLIGHT
DTSTART:20240310T010000
TZOFFSETFROM:-0500
TZOFFSETTO:-0400
TZNAME:CDT
END:DAYLIGHT
END:VTIMEZONE
END:VCALENDAR